BEGIN:VCALENDAR
VERSION:2.0
PRODID:-//Meqoamia - ECPv5.12.1//NONSGML v1.0//EN
CALSCALE:GREGORIAN
METHOD:PUBLISH
X-WR-CALNAME:Meqoamia
X-ORIGINAL-URL:https://meqoamia.org
X-WR-CALDESC:Events for Meqoamia
REFRESH-INTERVAL;VALUE=DURATION:PT1H
X-Robots-Tag:noindex
X-PUBLISHED-TTL:PT1H
BEGIN:VTIMEZONE
TZID:UTC
BEGIN:STANDARD
TZOFFSETFROM:+0000
TZOFFSETTO:+0000
TZNAME:UTC
DTSTART:20250101T000000
END:STANDARD
END:VTIMEZONE
BEGIN:VEVENT
DTSTART;TZID=UTC:20250228T080000
DTEND;TZID=UTC:20250320T180938
DTSTAMP:20260423T160859
CREATED:20250320T180938Z
LAST-MODIFIED:20250320T180938Z
UID:5024-1740729600-1742494178@meqoamia.org
SUMMARY:Advocacy meeting with officials of the city administration (mayor’s office)
DESCRIPTION:February 28\, 2025; Harmony Hotel\, Addis Ababa\, Ethiopia \nThis report summarizes the outcomes of the Advocacy Meeting held for the Tobacco Control (TC) Project\, attended by representatives from the Mayor’s Office\, EFDA\, AAFDA\, and the sub-cities of Arada\, Kirkos\, Lideta\, and Gullele\, along with MCDO. The primary objective of the meeting was to strengthen political commitment and support for the TC Project amidst ongoing urban development initiatives. The meeting was organized into three sections: an introduction and recap of previous meetings\, presentations from MCDO\, AAFDA\, and representatives from Gullele and Arada sub-cities\, and a stakeholders discussion aimed at addressing key issues and formulating actionable strategies. \nThe meeting produced several important outcomes. First\, stakeholder discussions were essential in identifying key issues affecting the TC Project. Participants evaluated the current political commitment towards the project\, highlighting the need for sustained support from the City Administration. A significant concern raised was regarding the recent Corridor Development implemented by the City Administration\, which has led to the relocation or closure of many establishments\, necessitating an urgent assessment of its impact on tobacco control efforts. The last meeting underscored the critical need for renewed political commitment to the TC Project amidst ongoing urban development initiatives. Future priorities emphasized the importance of prioritizing communication\, integrating tobacco control measures in educational institutions\, and enhancing awareness through effective materials.
URL:https://meqoamia.org/event/advocacy-meeting-with-officials-of-the-city-administration-mayors-office/
CATEGORIES:Addiction Recovery,Addis Ababa Tobacco Smoke-free Initiative (AATSFI),Advocacy,Ethiopia Tobacco smoke free imitative,Inspection,Tobacco
ATTACH;FMTTYPE=image/jpeg:https://meqoamia.org/wp-content/uploads/2025/03/photo_2025-03-20_11-01-55.jpg
END:VEVENT
END:VCALENDAR