BEGIN:VCALENDAR
VERSION:2.0
PRODID:-//Meqoamia - ECPv5.12.1//NONSGML v1.0//EN
CALSCALE:GREGORIAN
METHOD:PUBLISH
X-WR-CALNAME:Meqoamia
X-ORIGINAL-URL:https://meqoamia.org
X-WR-CALDESC:Events for Meqoamia
REFRESH-INTERVAL;VALUE=DURATION:PT1H
X-Robots-Tag:noindex
X-PUBLISHED-TTL:PT1H
BEGIN:VTIMEZONE
TZID:UTC
BEGIN:STANDARD
TZOFFSETFROM:+0000
TZOFFSETTO:+0000
TZNAME:UTC
DTSTART:20250101T000000
END:STANDARD
END:VTIMEZONE
BEGIN:VEVENT
DTSTART;VALUE=DATE:20250424
DTEND;VALUE=DATE:20250427
DTSTAMP:20260423T133558
CREATED:20250507T105143Z
LAST-MODIFIED:20250507T105223Z
UID:5076-1745452800-1745711999@meqoamia.org
SUMMARY:A Training held in collaboration with UNODC Ethiopia on Drug Dependence Treatment Federal prison commission High and Mid-Level Leadership.
DESCRIPTION:Training is underway for high and mid-level leaders of the Federal Prison Commission on Drug Demand Reduction (DDR) and SUDs Treatment and Recovery coaching. The theme of this training\, taking place from April 24-26\, 2025\, at the Pyramid Hotel and Resort in Bishoftu\, Ethiopia\, is “Addiction Recovery\, Relapse Prevention\, and Reduced Recidivism.” This training incorporates principles from the self-help book\, “Meqoamia – science of Addiction” recovery support. \n#Ethiopia #UNODC #FCC #MCDO \n” A Training held in collaboration with UNODC Ethiopia on Drug Dependence Treatment Federal prison commission High and Mid-Level Leadership. ” \n#drug_demand_reduction #Recovery #recoverycoach #recivismreduction #Ethiopianprison \n#addictionrecovery #relapsprevetion
URL:https://meqoamia.org/event/a-training-held-in-collaboration-with-unodc-ethiopia-on-drug-dependence-treatment-federal-prison-commission-high-and-mid-level-leadership/
CATEGORIES:Addiction,Addiction Recovery
ATTACH;FMTTYPE=image/jpeg:https://meqoamia.org/wp-content/uploads/2025/05/photo_2025-04-22_04-46-05-1.jpg
END:VEVENT
BEGIN:VEVENT
DTSTART;VALUE=DATE:20250424
DTEND;VALUE=DATE:20250427
DTSTAMP:20260423T133558
CREATED:20250507T110556Z
LAST-MODIFIED:20250507T110556Z
UID:5078-1745452800-1745711999@meqoamia.org
SUMMARY:A Training held in collaboration with UNODC Ethiopia on Drug Dependence Treatment Federal prison commission High and Mid-Level Leadership.
DESCRIPTION:Capacity building training on Addiction Recovery\, Relapse Prevention\, and Reduced Recidivism. This training incorporates principles from the self-help book\, “Meqoamia – The science of Addiction” recovery support.\n*Knowing our Enemy (Addiction)\n\n\n“A Training held in collaboration with UNODC Ethiopia on Drug Dependence Treatment Federal prison commission High and Mid-Level Leadership.”\n\n\n#drug_demand_reduction #DDR #Recovery #recoverycoach #recivismreduction #Ethiopianprison #UNODC #FPC #MCDO #መቋሚያ-የሱስ ሳይንስ\n#addictionrecovery #relapsprevention
URL:https://meqoamia.org/event/a-training-held-in-collaboration-with-unodc-ethiopia-on-drug-dependence-treatment-federal-prison-commission-high-and-mid-level-leadership-2/
CATEGORIES:Addiction,Addiction Recovery
ATTACH;FMTTYPE=image/jpeg:https://meqoamia.org/wp-content/uploads/2025/05/495375271_1101584955337541_2573474507391584904_n.jpg
END:VEVENT
BEGIN:VEVENT
DTSTART;VALUE=DATE:20250424
DTEND;VALUE=DATE:20250427
DTSTAMP:20260423T133558
CREATED:20250507T111506Z
LAST-MODIFIED:20250507T111506Z
UID:5085-1745452800-1745711999@meqoamia.org
SUMMARY:A Training held in collaboration with UNODC Ethiopia on Drug Dependence Treatment Federal prison commission High and Mid-Level Leadership.
DESCRIPTION:Capacity building training on Addiction Recovery\, Relapse Prevention\, and Reduced Recidivism. This training incorporates principles from the self-help book\, “Meqoamia – science of Addiction” recovery support.\n*Knowing our Enemy (Addiction)\n\n\n“A Training held in collaboration with UNODC Ethiopia on Drug Dependence Treatment Federal prison commission High and Mid-Level Leadership.”\n\n\n#drug_demand_reduction #DDR #Recovery #recoverycoach #recivismreduction #Ethiopianprison #UNODC #FPC #MCDO #መቋሚያ-የሱስ ሳይንስ\n#addictionrecovery #relapsprevention
URL:https://meqoamia.org/event/a-training-held-in-collaboration-with-unodc-ethiopia-on-drug-dependence-treatment-federal-prison-commission-high-and-mid-level-leadership-4/
LOCATION:pyramid hotel and resort beshofitu
CATEGORIES:Addiction,Addiction Recovery
ATTACH;FMTTYPE=image/jpeg:https://meqoamia.org/wp-content/uploads/2025/05/photo_2025-04-30_04-02-11.jpg
END:VEVENT
END:VCALENDAR